BEGIN:VCALENDAR
VERSION:2.0
PRODID:BayWISS
METHOD:PUBLISH
BEGIN:VTIMEZONE
TZID:Europe/Berlin
BEGIN:DAYLIGHT
TZOFFSETFROM:+0100
DTSTART:19810329T020000
RRULE:FREQ=YEARLY;BYMONTH=3;BYDAY=-1SU
TZNAME:GMT+2
TZOFFSETTO:+0200
END:DAYLIGHT
BEGIN:STANDARD
TZOFFSETFROM:+0200
DTSTART:19961027T030000
RRULE:FREQ=YEARLY;BYMONTH=10;BYDAY=-1SU
TZNAME:GMT+1
TZOFFSETTO:+0100
END:STANDARD
END:VTIMEZONE
BEGIN:VEVENT
UID:news-29043@www.uni-bamberg.de
SUMMARY:HBIM Workshop in Mainz  - Dr.-Ing. Maria Chizhova über die aktuellen Entwicklungen im DBU Projekt “WoodF(ea)uture”
CLASS:PUBLIC
DTSTART;TZID=Europe/Berlin:20250327T130000
DTEND;TZID=Europe/Berlin:20250328T090000
DTSTAMP:20260407T122301Z
END:VEVENT
END:VCALENDAR
